BEGIN:VCALENDAR
VERSION:2.0
PRODID:-//TYPO3/NONSGML Calendarize//EN


BEGIN:VEVENT
UID:calendarize-eqsi-seminar-freek-witteveen-the-minimal-canonical-form-of-a-tensor-network
DTSTAMP:20230328T124842Z

DTSTART:20230416T210000Z
DTEND:20230416T210000Z
    
SUMMARY:EQSI Seminar: Freek Witteveen - The minimal canonical form of a tensor network
DESCRIPTION:To foster the exchange of information\, EQSI will organise a monthly series of online talks on quantum software. The talks will alternate between higher-level overview talks by distinguished scientists (EQSI Colloquium) and presentations of specific recent results (EQSI Seminar). Typically\, the talks will take place in the 3rd week of the month\, starting at 5pm CET\, so that audiences from both Europe and North America are able to watch the talks live.\nRecordings of the talks will be available on the EQSI Youtube channel  Talk schedule: Tuesday\, March 21\, 2023 5pm CET (EQSI Colloquium): Ashley Montanaro (Phasecraft and University of Bristol)\, Near-term quantum algorithms for optimization (Watch on Youtube). Monday\, April 17\, 2023\, 5pm CET (EQSI Seminar): Freek Witteveen (University of Copenhagen)\, The minimal canonical form of a tensor network Tuesday\, May 16\, 2023\, 5pm CET (EQSI Colloquium): Andrew Childs (University of Maryland)\, TBA Monday\, June 19\, 2023\, 5pm CET (EQSI Seminar): Speaker and title TBA
X-ALT-DESC;FMTTYPE=text/html:<p>To foster the exchange of information\, EQSI will organise a monthly series of online talks on quantum software. The talks will alternate between higher-level overview talks by distinguished scientists (EQSI Colloquium) and presentations of specific recent results (EQSI Seminar). Typically\, the talks will take place in the 3rd week of the month\, starting at 5pm CET\, so that audiences from both Europe and North America are able to watch the talks live.</p>\n<p>Recordings of the talks will be available on the<a href="https://www.youtube.com/@EQSI-EuropeanQSInstitute" rel="noreferrer" target="_blank"> EQSI Youtube channel</a><br /> <br /> Talk schedule:<br /> <strong>Tuesday\, March 21</strong>\, 2023 5pm CET (EQSI Colloquium): Ashley Montanaro (Phasecraft and University of Bristol)\, Near-term quantum algorithms for optimization (<a href="https://www.youtube.com/watch?v=yZLLiZjzJm0" rel="noreferrer" target="_blank">Watch on Youtube</a>).<br /> <strong>Monday\, April 17\, 2023</strong>\, 5pm CET (EQSI Seminar): Freek Witteveen (University of Copenhagen)\, The minimal canonical form of a tensor network<br /> <strong>Tuesday\, May 16\, 2023</strong>\, 5pm CET (EQSI Colloquium): Andrew Childs (University of Maryland)\, TBA<br /> <strong>Monday\, June 19\, 2023</strong>\, 5pm CET (EQSI Seminar): Speaker and title TBA</p>
LOCATION:
END:VEVENT

END:VCALENDAR